BEGIN:VCALENDAR
VERSION:2.0
PRODID:-//Tukios.com/
BEGIN:VEVENT
UID:20131f95-4380-4b47-997d-6dafd3499baa@www.elcollinsfh.com
DTSTAMP:20260426T012927Z
DTSTART:20260501T210000Z
DTEND:20260502T000000Z
SUMMARY:Viewing
DESCRIPTION:
URL:https://www.elcollinsfh.com/obituaries/marion-means-sr
LOCATION: 3120 S Church St Ext  Spartanburg SC 29306
GEO:34.916202;-81.9399791
END:VEVENT
END:VCALENDAR