BEGIN:VCALENDAR
VERSION:2.0
PRODID:-//Tukios.com/
BEGIN:VEVENT
UID:e00c63ff-6851-4d7d-8ce1-e6967576a76e@www.elcollinsfh.com
DTSTAMP:20260426T013024Z
DTSTART:20260502T170000Z
DTEND:20260502T180000Z
SUMMARY:Celebration of Life
DESCRIPTION:
URL:https://www.elcollinsfh.com/obituaries/marion-means-sr
LOCATION: 3120 S Church St Ext  Spartanburg SC 29306
GEO:34.916202;-81.9399791
END:VEVENT
END:VCALENDAR